Package: atena Version: 1.13.0 Command: /home/biocbuild/R/R/bin/R CMD INSTALL atena StartedAt: 2025-01-29 19:51:25 -0000 (Wed, 29 Jan 2025) EndedAt: 2025-01-29 19:52:23 -0000 (Wed, 29 Jan 2025) EllapsedTime: 58.1 seconds RetCode: 0 Status: OK