Package: atena Version: 1.13.0 Command: rm -rf atena.buildbin-libdir && mkdir atena.buildbin-libdir && /Users/biocbuild/BBS/utils/build-universal.sh atena_1.13.0.tar.gz /Library/Frameworks/R.framework/Resources/bin/R atena.buildbin-libdir StartedAt: 2025-02-10 00:42:14 -0500 (Mon, 10 Feb 2025) EndedAt: 2025-02-10 00:43:15 -0500 (Mon, 10 Feb 2025) EllapsedTime: 61.1 seconds RetCode: 0 Status: OK PackageFile: atena_1.13.0.tgz PackageFileSize: 1.758 MiB