Package: atena Version: 1.13.0 Command: /home/biocbuild/bbs-3.21-bioc/R/bin/R CMD build --keep-empty-dirs --no-resave-data atena StartedAt: 2025-02-09 16:11:02 -0500 (Sun, 09 Feb 2025) EndedAt: 2025-02-09 16:23:10 -0500 (Sun, 09 Feb 2025) EllapsedTime: 728.6 seconds RetCode: 0 Status: OK PackageFile: atena_1.13.0.tar.gz PackageFileSize: 1.283 MiB