Package: atena Version: 1.13.0 Command: /home/biocbuild/bbs-3.21-bioc/R/bin/R CMD INSTALL atena StartedAt: 2025-02-09 15:38:17 -0500 (Sun, 09 Feb 2025) EndedAt: 2025-02-09 15:38:59 -0500 (Sun, 09 Feb 2025) EllapsedTime: 42.5 seconds RetCode: 0 Status: OK