Package: atena Version: 1.13.0 Command: rm -rf atena.buildbin-libdir && mkdir atena.buildbin-libdir && E:\biocbuild\bbs-3.21-bioc\R\bin\R.exe CMD INSTALL --build --library=atena.buildbin-libdir atena_1.13.0.tar.gz StartedAt: 2025-02-10 07:14:06 -0500 (Mon, 10 Feb 2025) EndedAt: 2025-02-10 07:15:18 -0500 (Mon, 10 Feb 2025) EllapsedTime: 72.3 seconds RetCode: 0 Status: OK PackageFile: atena_1.13.0.zip PackageFileSize: 1.715 MiB