Package: attract Version: 1.59.0 Command: /Library/Frameworks/R.framework/Resources/bin/R CMD build --keep-empty-dirs --no-resave-data attract StartedAt: 2025-02-12 15:34:58 -0500 (Wed, 12 Feb 2025) EndedAt: 2025-02-12 15:35:53 -0500 (Wed, 12 Feb 2025) EllapsedTime: 55.6 seconds RetCode: 0 Status: OK PackageFile: attract_1.59.0.tar.gz PackageFileSize: 4.294 MiB