Package: attract Version: 1.59.0 Command: /home/biocbuild/bbs-3.21-bioc/R/bin/R CMD check --install=check:attract.install-out.txt --library=/home/biocbuild/bbs-3.21-bioc/R/site-library --timings attract_1.59.0.tar.gz StartedAt: 2025-02-09 20:06:11 -0500 (Sun, 09 Feb 2025) EndedAt: 2025-02-09 20:12:43 -0500 (Sun, 09 Feb 2025) EllapsedTime: 391.5 seconds RetCode: 0 Status: OK CheckDir: attract.Rcheck Warnings: 0