Package: awst Version: 1.15.0 Command: /Library/Frameworks/R.framework/Resources/bin/R CMD check --install=check:awst.install-out.txt --library=/Library/Frameworks/R.framework/Resources/library --no-vignettes --timings awst_1.15.0.tar.gz StartedAt: 2025-02-09 18:06:32 -0500 (Sun, 09 Feb 2025) EndedAt: 2025-02-09 18:07:31 -0500 (Sun, 09 Feb 2025) EllapsedTime: 59.7 seconds RetCode: 0 Status: OK CheckDir: awst.Rcheck Warnings: 0