Package: awst Version: 1.15.0 Command: rm -rf awst.buildbin-libdir && mkdir awst.buildbin-libdir && E:\biocbuild\bbs-3.21-bioc\R\bin\R.exe CMD INSTALL --build --library=awst.buildbin-libdir awst_1.15.0.tar.gz StartedAt: 2025-02-10 07:14:28 -0500 (Mon, 10 Feb 2025) EndedAt: 2025-02-10 07:14:53 -0500 (Mon, 10 Feb 2025) EllapsedTime: 24.8 seconds RetCode: 0 Status: OK PackageFile: awst_1.15.0.zip PackageFileSize: 358.7 KiB