Package: bacon Version: 1.35.0 Command: /Library/Frameworks/R.framework/Resources/bin/R CMD check --install=check:bacon.install-out.txt --library=/Library/Frameworks/R.framework/Resources/library --no-vignettes --timings bacon_1.35.0.tar.gz StartedAt: 2025-02-12 18:07:08 -0500 (Wed, 12 Feb 2025) EndedAt: 2025-02-12 18:07:31 -0500 (Wed, 12 Feb 2025) EllapsedTime: 23.2 seconds RetCode: 0 Status: OK CheckDir: bacon.Rcheck Warnings: 0