Package: bacon Version: 1.35.0 Command: /home/biocbuild/R/R/bin/R CMD build --keep-empty-dirs --no-resave-data bacon StartedAt: 2025-01-29 20:57:01 -0000 (Wed, 29 Jan 2025) EndedAt: 2025-01-29 20:58:09 -0000 (Wed, 29 Jan 2025) EllapsedTime: 68.0 seconds RetCode: 0 Status: OK PackageFile: bacon_1.35.0.tar.gz PackageFileSize: 1.286 MiB