Package: bacon Version: 1.35.0 Command: /home/biocbuild/bbs-3.21-bioc/R/bin/R CMD INSTALL bacon StartedAt: 2025-02-09 15:08:12 -0500 (Sun, 09 Feb 2025) EndedAt: 2025-02-09 15:08:22 -0500 (Sun, 09 Feb 2025) EllapsedTime: 9.8 seconds RetCode: 0 Status: OK