Package: bambu Version: 3.9.3 Command: rm -rf bambu.buildbin-libdir && mkdir bambu.buildbin-libdir && /Users/biocbuild/BBS/utils/build-universal.sh bambu_3.9.3.tar.gz /Library/Frameworks/R.framework/Resources/bin/R bambu.buildbin-libdir StartedAt: 2025-02-12 22:11:23 -0500 (Wed, 12 Feb 2025) EndedAt: 2025-02-12 22:11:47 -0500 (Wed, 12 Feb 2025) EllapsedTime: 24.5 seconds RetCode: 0 Status: OK PackageFile: bambu_3.9.3.tgz PackageFileSize: 2.088 MiB