Package: bambu Version: 3.9.2 Command: /Library/Frameworks/R.framework/Resources/bin/R CMD check --install=check:bambu.install-out.txt --library=/Library/Frameworks/R.framework/Resources/library --no-vignettes --timings bambu_3.9.2.tar.gz StartedAt: 2025-02-09 18:07:37 -0500 (Sun, 09 Feb 2025) EndedAt: 2025-02-09 18:10:20 -0500 (Sun, 09 Feb 2025) EllapsedTime: 162.8 seconds RetCode: 1 Status: ERROR CheckDir: bambu.Rcheck Warnings: NA