Package: bambu Version: 3.9.0 Command: /home/biocbuild/R/R/bin/R CMD INSTALL bambu StartedAt: 2025-01-29 19:55:25 -0000 (Wed, 29 Jan 2025) EndedAt: 2025-01-29 19:56:48 -0000 (Wed, 29 Jan 2025) EllapsedTime: 83.3 seconds RetCode: 0 Status: OK