Package: bambu Version: 3.9.2 Command: rm -rf bambu.buildbin-libdir && mkdir bambu.buildbin-libdir && /Users/biocbuild/BBS/utils/build-universal.sh bambu_3.9.2.tar.gz /Library/Frameworks/R.framework/Resources/bin/R bambu.buildbin-libdir StartedAt: 2025-02-10 00:42:25 -0500 (Mon, 10 Feb 2025) EndedAt: 2025-02-10 00:43:43 -0500 (Mon, 10 Feb 2025) EllapsedTime: 78.4 seconds RetCode: 0 Status: OK PackageFile: bambu_3.9.2.tgz PackageFileSize: 2.094 MiB