Package: bambu Version: 3.9.2 Command: /Library/Frameworks/R.framework/Resources/bin/R CMD build --keep-empty-dirs --no-resave-data bambu StartedAt: 2025-02-09 15:56:25 -0500 (Sun, 09 Feb 2025) EndedAt: 2025-02-09 16:09:42 -0500 (Sun, 09 Feb 2025) EllapsedTime: 797.5 seconds RetCode: 0 Status: OK PackageFile: bambu_3.9.2.tar.gz PackageFileSize: 2.29 MiB