Package: bambu Version: 3.9.3 Command: /home/biocbuild/bbs-3.21-bioc/R/bin/R CMD check --install=check:bambu.install-out.txt --library=/home/biocbuild/bbs-3.21-bioc/R/site-library --timings bambu_3.9.3.tar.gz StartedAt: 2025-02-12 20:04:11 -0500 (Wed, 12 Feb 2025) EndedAt: 2025-02-12 20:24:44 -0500 (Wed, 12 Feb 2025) EllapsedTime: 1233.1 seconds RetCode: 0 Status: OK CheckDir: bambu.Rcheck Warnings: 0