Package: bambu Version: 3.9.2 Command: /home/biocbuild/bbs-3.21-bioc/R/bin/R CMD INSTALL bambu StartedAt: 2025-02-09 15:43:47 -0500 (Sun, 09 Feb 2025) EndedAt: 2025-02-09 15:44:43 -0500 (Sun, 09 Feb 2025) EllapsedTime: 56.5 seconds RetCode: 0 Status: OK