Package: bambu Version: 3.9.3 Command: chmod a+r bambu -R && E:\biocbuild\bbs-3.21-bioc\R\bin\R.exe CMD build --keep-empty-dirs --no-resave-data bambu StartedAt: 2025-02-12 17:21:03 -0500 (Wed, 12 Feb 2025) EndedAt: 2025-02-12 17:37:45 -0500 (Wed, 12 Feb 2025) EllapsedTime: 1001.9 seconds RetCode: 0 Status: OK PackageFile: bambu_3.9.3.tar.gz PackageFileSize: 2.048 MiB