Package: bambu Version: 3.9.2 Command: E:\biocbuild\bbs-3.21-bioc\R\bin\R.exe CMD check --no-multiarch --install=check:bambu.install-out.txt --library=E:\biocbuild\bbs-3.21-bioc\R\library --no-vignettes --timings bambu_3.9.2.tar.gz StartedAt: 2025-02-09 22:45:12 -0500 (Sun, 09 Feb 2025) EndedAt: 2025-02-09 22:54:28 -0500 (Sun, 09 Feb 2025) EllapsedTime: 555.9 seconds RetCode: 1 Status: ERROR CheckDir: bambu.Rcheck Warnings: NA