Package: bambu Version: 3.9.3 Command: E:\biocbuild\bbs-3.21-bioc\R\bin\R.exe CMD INSTALL bambu StartedAt: 2025-02-12 16:27:36 -0500 (Wed, 12 Feb 2025) EndedAt: 2025-02-12 16:29:05 -0500 (Wed, 12 Feb 2025) EllapsedTime: 89.2 seconds RetCode: 0 Status: OK