Package: bamsignals Version: 1.39.0 Command: rm -rf bamsignals.buildbin-libdir && mkdir bamsignals.buildbin-libdir && /Users/biocbuild/BBS/utils/build-universal.sh bamsignals_1.39.0.tar.gz /Library/Frameworks/R.framework/Resources/bin/R bamsignals.buildbin-libdir StartedAt: 2025-02-09 22:06:23 -0500 (Sun, 09 Feb 2025) EndedAt: 2025-02-09 22:06:33 -0500 (Sun, 09 Feb 2025) EllapsedTime: 10.2 seconds RetCode: 0 Status: OK PackageFile: bamsignals_1.39.0.tgz PackageFileSize: 2.803 MiB