Package: bamsignals Version: 1.39.0 Command: /Library/Frameworks/R.framework/Resources/bin/R CMD check --install=check:bamsignals.install-out.txt --library=/Library/Frameworks/R.framework/Resources/library --no-vignettes --timings bamsignals_1.39.0.tar.gz StartedAt: 2025-02-09 18:07:43 -0500 (Sun, 09 Feb 2025) EndedAt: 2025-02-09 18:08:24 -0500 (Sun, 09 Feb 2025) EllapsedTime: 40.4 seconds RetCode: 0 Status: OK CheckDir: bamsignals.Rcheck Warnings: 0