Package: bamsignals Version: 1.39.0 Command: /Library/Frameworks/R.framework/Resources/bin/R CMD INSTALL bamsignals StartedAt: 2025-02-09 15:04:05 -0500 (Sun, 09 Feb 2025) EndedAt: 2025-02-09 15:04:13 -0500 (Sun, 09 Feb 2025) EllapsedTime: 7.8 seconds RetCode: 0 Status: OK