Package: bamsignals Version: 1.39.0 Command: /home/biocbuild/R/R/bin/R CMD build --keep-empty-dirs --no-resave-data bamsignals StartedAt: 2025-01-29 20:58:09 -0000 (Wed, 29 Jan 2025) EndedAt: 2025-01-29 20:58:54 -0000 (Wed, 29 Jan 2025) EllapsedTime: 45.0 seconds RetCode: 0 Status: OK PackageFile: bamsignals_1.39.0.tar.gz PackageFileSize: 3.023 MiB