Package: bamsignals Version: 1.39.0 Command: /Library/Frameworks/R.framework/Resources/bin/R CMD INSTALL bamsignals StartedAt: 2025-02-09 15:09:19 -0500 (Sun, 09 Feb 2025) EndedAt: 2025-02-09 15:09:49 -0500 (Sun, 09 Feb 2025) EllapsedTime: 30.0 seconds RetCode: 0 Status: OK