Package: bamsignals Version: 1.39.0 Command: rm -rf bamsignals.buildbin-libdir && mkdir bamsignals.buildbin-libdir && E:\biocbuild\bbs-3.21-bioc\R\bin\R.exe CMD INSTALL --build --library=bamsignals.buildbin-libdir bamsignals_1.39.0.tar.gz StartedAt: 2025-02-10 07:14:54 -0500 (Mon, 10 Feb 2025) EndedAt: 2025-02-10 07:15:44 -0500 (Mon, 10 Feb 2025) EllapsedTime: 49.5 seconds RetCode: 0 Status: OK PackageFile: bamsignals_1.39.0.zip PackageFileSize: 6.824 MiB