Package: bamsignals Version: 1.39.0 Command: chmod a+r bamsignals -R && E:\biocbuild\bbs-3.21-bioc\R\bin\R.exe CMD build --keep-empty-dirs --no-resave-data bamsignals StartedAt: 2025-02-04 17:16:41 -0500 (Tue, 04 Feb 2025) EndedAt: 2025-02-04 17:17:47 -0500 (Tue, 04 Feb 2025) EllapsedTime: 65.4 seconds RetCode: 0 Status: OK PackageFile: bamsignals_1.39.0.tar.gz PackageFileSize: 2.677 MiB