Package: bamsignals Version: 1.39.0 Command: E:\biocbuild\bbs-3.21-bioc\R\bin\R.exe CMD INSTALL bamsignals StartedAt: 2025-02-04 15:34:14 -0500 (Tue, 04 Feb 2025) EndedAt: 2025-02-04 15:34:58 -0500 (Tue, 04 Feb 2025) EllapsedTime: 43.6 seconds RetCode: 0 Status: OK