Package: bandle Version: 1.11.0 Command: rm -rf bandle.buildbin-libdir && mkdir bandle.buildbin-libdir && /Users/biocbuild/BBS/utils/build-universal.sh bandle_1.11.0.tar.gz /Library/Frameworks/R.framework/Resources/bin/R bandle.buildbin-libdir StartedAt: 2025-02-09 22:06:25 -0500 (Sun, 09 Feb 2025) EndedAt: 2025-02-09 22:07:01 -0500 (Sun, 09 Feb 2025) EllapsedTime: 35.7 seconds RetCode: 0 Status: OK PackageFile: bandle_1.11.0.tgz PackageFileSize: 4.834 MiB