Package: bandle Version: 1.11.0 Command: /Library/Frameworks/R.framework/Resources/bin/R CMD build --keep-empty-dirs --no-resave-data bandle StartedAt: 2025-02-09 15:35:47 -0500 (Sun, 09 Feb 2025) EndedAt: 2025-02-09 15:37:09 -0500 (Sun, 09 Feb 2025) EllapsedTime: 81.8 seconds RetCode: 0 Status: OK PackageFile: bandle_1.11.0.tar.gz PackageFileSize: 4.216 MiB