Package: bandle Version: 1.11.0 Command: /home/biocbuild/R/R/bin/R CMD build --keep-empty-dirs --no-resave-data bandle StartedAt: 2025-01-29 20:58:28 -0000 (Wed, 29 Jan 2025) EndedAt: 2025-01-29 21:05:12 -0000 (Wed, 29 Jan 2025) EllapsedTime: 404.1 seconds RetCode: 0 Status: OK PackageFile: bandle_1.11.0.tar.gz PackageFileSize: 2.252 MiB