Package: bandle Version: 1.11.0 Command: /Library/Frameworks/R.framework/Resources/bin/R CMD build --keep-empty-dirs --no-resave-data bandle StartedAt: 2025-02-12 15:55:26 -0500 (Wed, 12 Feb 2025) EndedAt: 2025-02-12 15:59:40 -0500 (Wed, 12 Feb 2025) EllapsedTime: 254.4 seconds RetCode: 0 Status: OK PackageFile: bandle_1.11.0.tar.gz PackageFileSize: 4.209 MiB