Package: bandle Version: 1.11.0 Command: /home/biocbuild/bbs-3.21-bioc/R/bin/R CMD check --install=check:bandle.install-out.txt --library=/home/biocbuild/bbs-3.21-bioc/R/site-library --timings bandle_1.11.0.tar.gz StartedAt: 2025-02-09 20:09:04 -0500 (Sun, 09 Feb 2025) EndedAt: 2025-02-09 20:22:21 -0500 (Sun, 09 Feb 2025) EllapsedTime: 796.8 seconds RetCode: 0 Status: WARNINGS CheckDir: bandle.Rcheck Warnings: 1