Package: banocc Version: 1.31.0 Command: /Library/Frameworks/R.framework/Resources/bin/R CMD check --install=check:banocc.install-out.txt --library=/Library/Frameworks/R.framework/Resources/library --no-vignettes --timings banocc_1.31.0.tar.gz StartedAt: 2025-02-04 18:08:51 -0500 (Tue, 04 Feb 2025) EndedAt: 2025-02-04 18:09:36 -0500 (Tue, 04 Feb 2025) EllapsedTime: 45.5 seconds RetCode: 0 Status: OK CheckDir: banocc.Rcheck Warnings: 0