Package: banocc Version: 1.31.0 Command: /home/biocbuild/R/R/bin/R CMD build --keep-empty-dirs --no-resave-data banocc StartedAt: 2025-01-29 20:58:54 -0000 (Wed, 29 Jan 2025) EndedAt: 2025-01-29 21:03:53 -0000 (Wed, 29 Jan 2025) EllapsedTime: 299.1 seconds RetCode: 0 Status: OK PackageFile: banocc_1.31.0.tar.gz PackageFileSize: 25.72 MiB