Package: banocc Version: 1.31.0 Command: /home/biocbuild/R/R/bin/R CMD check --install=check:banocc.install-out.txt --library=/home/biocbuild/R/R/site-library --no-vignettes --timings banocc_1.31.0.tar.gz StartedAt: 2025-01-28 03:40:55 -0000 (Tue, 28 Jan 2025) EndedAt: 2025-01-28 03:44:50 -0000 (Tue, 28 Jan 2025) EllapsedTime: 234.3 seconds RetCode: 0 Status: OK CheckDir: banocc.Rcheck Warnings: 0