Package: banocc Version: 1.31.0 Command: /home/biocbuild/R/R/bin/R CMD INSTALL banocc StartedAt: 2025-01-29 19:43:34 -0000 (Wed, 29 Jan 2025) EndedAt: 2025-01-29 19:43:59 -0000 (Wed, 29 Jan 2025) EllapsedTime: 25.5 seconds RetCode: 0 Status: OK