Package: banocc Version: 1.31.0 Command: /Library/Frameworks/R.framework/Resources/bin/R CMD build --keep-empty-dirs --no-resave-data banocc StartedAt: 2025-02-09 15:57:01 -0500 (Sun, 09 Feb 2025) EndedAt: 2025-02-09 15:59:08 -0500 (Sun, 09 Feb 2025) EllapsedTime: 127.1 seconds RetCode: 0 Status: OK PackageFile: banocc_1.31.0.tar.gz PackageFileSize: 26.11 MiB