Package: banocc Version: 1.31.0 Command: /Library/Frameworks/R.framework/Resources/bin/R CMD INSTALL banocc StartedAt: 2025-02-09 15:09:17 -0500 (Sun, 09 Feb 2025) EndedAt: 2025-02-09 15:09:28 -0500 (Sun, 09 Feb 2025) EllapsedTime: 11.3 seconds RetCode: 0 Status: OK