Package: banocc Version: 1.31.0 Command: /home/biocbuild/bbs-3.21-bioc/R/bin/R CMD INSTALL banocc StartedAt: 2025-02-04 15:07:02 -0500 (Tue, 04 Feb 2025) EndedAt: 2025-02-04 15:07:26 -0500 (Tue, 04 Feb 2025) EllapsedTime: 24.4 seconds RetCode: 0 Status: OK