Package: banocc Version: 1.31.0 Command: chmod a+r banocc -R && E:\biocbuild\bbs-3.21-bioc\R\bin\R.exe CMD build --keep-empty-dirs --no-resave-data banocc StartedAt: 2025-02-09 17:19:57 -0500 (Sun, 09 Feb 2025) EndedAt: 2025-02-09 17:23:35 -0500 (Sun, 09 Feb 2025) EllapsedTime: 218.1 seconds RetCode: 0 Status: OK PackageFile: banocc_1.31.0.tar.gz PackageFileSize: 25.57 MiB