Package: banocc Version: 1.31.0 Command: E:\biocbuild\bbs-3.21-bioc\R\bin\R.exe CMD check --no-multiarch --install=check:banocc.install-out.txt --library=E:\biocbuild\bbs-3.21-bioc\R\library --no-vignettes --timings banocc_1.31.0.tar.gz StartedAt: 2025-02-09 22:46:14 -0500 (Sun, 09 Feb 2025) EndedAt: 2025-02-09 22:48:37 -0500 (Sun, 09 Feb 2025) EllapsedTime: 142.6 seconds RetCode: 0 Status: OK CheckDir: banocc.Rcheck Warnings: 0