Package: barcodetrackR Version: 1.15.0 Command: E:\biocbuild\bbs-3.21-bioc\R\bin\R.exe CMD check --no-multiarch --install=check:barcodetrackR.install-out.txt --library=E:\biocbuild\bbs-3.21-bioc\R\library --no-vignettes --timings barcodetrackR_1.15.0.tar.gz StartedAt: 2025-02-09 22:46:16 -0500 (Sun, 09 Feb 2025) EndedAt: 2025-02-09 22:50:15 -0500 (Sun, 09 Feb 2025) EllapsedTime: 239.0 seconds RetCode: 0 Status: OK CheckDir: barcodetrackR.Rcheck Warnings: 0