Back to Multiple platform build/check report for BioC 3.21:   simplified   long
A[B]CDEFGHIJKLMNOPQRSTUVWXYZ

This page was generated on 2025-02-10 11:38 -0500 (Mon, 10 Feb 2025).

HostnameOSArch (*)R versionInstalled pkgs
nebbiolo1Linux (Ubuntu 24.04.1 LTS)x86_64R Under development (unstable) (2025-01-20 r87609) -- "Unsuffered Consequences" 4719
palomino7Windows Server 2022 Datacenterx64R Under development (unstable) (2025-01-21 r87610 ucrt) -- "Unsuffered Consequences" 4480
lconwaymacOS 12.7.1 Montereyx86_64R Under development (unstable) (2025-01-22 r87618) -- "Unsuffered Consequences" 4491
kjohnson3macOS 13.7.1 Venturaarm64R Under development (unstable) (2025-01-20 r87609) -- "Unsuffered Consequences" 4444
Click on any hostname to see more info about the system (e.g. compilers)      (*) as reported by 'uname -p', except on Windows and Mac OS X

All results for package basilisk.utils


To the developers/maintainers of the basilisk.utils package:
- Allow up to 24 hours (and sometimes 48 hours) for your latest push to git@git.bioconductor.org:packages/basilisk.utils.git to reflect on this report. See Troubleshooting Build Report for more information.
- Use the following Renviron settings to reproduce errors and warnings.
- If 'R CMD check' started to fail recently on the Linux builder(s) over a missing dependency, add the missing dependency to 'Suggests:' in your DESCRIPTION file. See Renviron.bioc for more information.

raw results

Package 139/2295HostnameOS / ArchINSTALLBUILDCHECKBUILD BIN
basilisk.utils 1.19.0  (landing page)
Aaron Lun
Snapshot Date: 2025-02-09 13:40 -0500 (Sun, 09 Feb 2025)
git_url: https://git.bioconductor.org/packages/basilisk.utils
git_branch: devel
git_last_commit: f596ce0
git_last_commit_date: 2024-10-29 10:43:38 -0500 (Tue, 29 Oct 2024)
nebbiolo1Linux (Ubuntu 24.04.1 LTS) / x86_64  OK    OK    OK  UNNEEDED, same version is already published
palomino7Windows Server 2022 Datacenter / x64  OK    OK    OK    OK  UNNEEDED, same version is already published
lconwaymacOS 12.7.1 Monterey / x86_64  OK    OK    OK    OK  UNNEEDED, same version is already published
kjohnson3macOS 13.7.1 Ventura / arm64  OK    OK    OK    OK  UNNEEDED, same version is already published



Results for Bioconductor software packages that depend directly on package basilisk.utils

QUICK STATSOS / ArchINSTALLBUILDCHECKBUILD BIN
nebbiolo1Linux (Ubuntu 24.04.1 LTS) / x86_64
004
004
0004
palomino7Windows Server 2022 Datacenter / x64
004
004
0004
004
lconwaymacOS 12.7.1 Monterey / x86_64
004
004
1003
004
kjohnson3macOS 13.7.1 Ventura / arm64
004
004
0004
004
Package 1/4HostnameOS / ArchINSTALLBUILDCHECKBUILD BIN
basilisk 1.19.0  (landing page)
Aaron Lun
git_last_commit: 7e940de
git_last_commit_date: 2024-10-29 10:43:26 -0500
nebbiolo1Linux (Ubuntu 24.04.1 LTS) / x86_64  OK    OK    OK  UNNEEDED, same version is already published
palomino7Windows Server 2022 Datacenter / x64  OK    OK    OK    OK  UNNEEDED, same version is already published
lconwaymacOS 12.7.1 Monterey / x86_64  OK    OK    TIMEOUT    OK  
kjohnson3macOS 13.7.1 Ventura / arm64  OK    OK    OK    OK  UNNEEDED, same version is already published
Package 2/4HostnameOS / ArchINSTALLBUILDCHECKBUILD BIN
crisprScore 1.11.0  (landing page)
Jean-Philippe Fortin
git_last_commit: d409224
git_last_commit_date: 2024-10-29 11:07:33 -0500
nebbiolo1Linux (Ubuntu 24.04.1 LTS) / x86_64  OK    OK    OK  UNNEEDED, same version is already published
palomino7Windows Server 2022 Datacenter / x64  OK    OK    OK    OK  UNNEEDED, same version is already published
lconwaymacOS 12.7.1 Monterey / x86_64  OK    OK    OK    OK  UNNEEDED, same version is already published
kjohnson3macOS 13.7.1 Ventura / arm64  OK    OK    OK    OK  UNNEEDED, same version is already published
Package 3/4HostnameOS / ArchINSTALLBUILDCHECKBUILD BIN
LimROTS 0.99.12  (landing page)
Ali Mostafa Anwar
git_last_commit: aac524a
git_last_commit_date: 2024-12-19 14:59:37 -0500
nebbiolo1Linux (Ubuntu 24.04.1 LTS) / x86_64  OK    OK    OK  UNNEEDED, same version is already published
palomino7Windows Server 2022 Datacenter / x64  OK    OK    OK    OK  UNNEEDED, same version is already published
lconwaymacOS 12.7.1 Monterey / x86_64  OK    OK    OK    OK  UNNEEDED, same version is already published
kjohnson3macOS 13.7.1 Ventura / arm64  OK    OK    OK    OK  UNNEEDED, same version is already published
Package 4/4HostnameOS / ArchINSTALLBUILDCHECKBUILD BIN
scifer 1.9.0  (landing page)
Rodrigo Arcoverde Cerveira
git_last_commit: 67365f1
git_last_commit_date: 2024-12-13 08:28:56 -0500
nebbiolo1Linux (Ubuntu 24.04.1 LTS) / x86_64  OK    OK    OK  UNNEEDED, same version is already published
palomino7Windows Server 2022 Datacenter / x64  OK    OK    OK    OK  UNNEEDED, same version is already published
lconwaymacOS 12.7.1 Monterey / x86_64  OK    OK    OK    OK  UNNEEDED, same version is already published
kjohnson3macOS 13.7.1 Ventura / arm64  OK    OK    OK    OK  UNNEEDED, same version is already published