Package: basilisk.utils Version: 1.19.0 Command: /Library/Frameworks/R.framework/Resources/bin/R CMD check --install=check:basilisk.utils.install-out.txt --library=/Library/Frameworks/R.framework/Resources/library --no-vignettes --timings basilisk.utils_1.19.0.tar.gz StartedAt: 2025-02-04 18:10:20 -0500 (Tue, 04 Feb 2025) EndedAt: 2025-02-04 18:10:33 -0500 (Tue, 04 Feb 2025) EllapsedTime: 13.1 seconds RetCode: 0 Status: OK CheckDir: basilisk.utils.Rcheck Warnings: 0