Package: basilisk.utils Version: 1.19.0 Command: /home/biocbuild/R/R/bin/R CMD build --keep-empty-dirs --no-resave-data basilisk.utils StartedAt: 2025-01-29 21:00:54 -0000 (Wed, 29 Jan 2025) EndedAt: 2025-01-29 21:00:59 -0000 (Wed, 29 Jan 2025) EllapsedTime: 5.0 seconds RetCode: 0 Status: OK PackageFile: basilisk.utils_1.19.0.tar.gz PackageFileSize: 261.1 KiB