Package: basilisk.utils Version: 1.19.0 Command: /home/biocbuild/R/R/bin/R CMD INSTALL basilisk.utils StartedAt: 2025-01-29 19:34:15 -0000 (Wed, 29 Jan 2025) EndedAt: 2025-01-29 19:34:27 -0000 (Wed, 29 Jan 2025) EllapsedTime: 12.0 seconds RetCode: 0 Status: OK