Package: basilisk.utils Version: 1.19.0 Command: /home/biocbuild/bbs-3.21-bioc/R/bin/R CMD check --install=check:basilisk.utils.install-out.txt --library=/home/biocbuild/bbs-3.21-bioc/R/site-library --timings basilisk.utils_1.19.0.tar.gz StartedAt: 2025-02-04 20:09:23 -0500 (Tue, 04 Feb 2025) EndedAt: 2025-02-04 20:09:44 -0500 (Tue, 04 Feb 2025) EllapsedTime: 21.0 seconds RetCode: 0 Status: OK CheckDir: basilisk.utils.Rcheck Warnings: 0